BEGIN:VCALENDAR
VERSION:2.0
PRODID:-//Gut Schuss - ECPv6.15.20//NONSGML v1.0//EN
CALSCALE:GREGORIAN
METHOD:PUBLISH
X-WR-CALNAME:Gut Schuss
X-ORIGINAL-URL:https://a-w-francke.de
X-WR-CALDESC:Veranstaltungen für Gut Schuss
REFRESH-INTERVAL;VALUE=DURATION:PT1H
X-Robots-Tag:noindex
X-PUBLISHED-TTL:PT1H
BEGIN:VTIMEZONE
TZID:UTC
BEGIN:STANDARD
TZOFFSETFROM:+0000
TZOFFSETTO:+0000
TZNAME:UTC
DTSTART:20190101T000000
END:STANDARD
END:VTIMEZONE
BEGIN:VEVENT
DTSTART;TZID=UTC:20200808T140000
DTEND;TZID=UTC:20200808T180000
DTSTAMP:20260421T191751
CREATED:20200805T051318Z
LAST-MODIFIED:20200805T051318Z
UID:658-1596895200-1596909600@a-w-francke.de
SUMMARY:Freies Training
DESCRIPTION:
URL:https://a-w-francke.de/event/freies-training-35
LOCATION:Schießstand Langenweddingen
END:VEVENT
BEGIN:VEVENT
DTSTART;TZID=UTC:20200823T100000
DTEND;TZID=UTC:20200823T120000
DTSTAMP:20260421T191751
CREATED:20200808T092949Z
LAST-MODIFIED:20200808T092949Z
UID:660-1598176800-1598184000@a-w-francke.de
SUMMARY:Freies Training
DESCRIPTION:
URL:https://a-w-francke.de/event/freies-training-36
LOCATION:Schießstand Eichenbarleben
END:VEVENT
END:VCALENDAR