BEGIN:VCALENDAR
VERSION:2.0
PRODID:-//Gut Schuss - ECPv6.15.20//NONSGML v1.0//EN
CALSCALE:GREGORIAN
METHOD:PUBLISH
X-ORIGINAL-URL:https://a-w-francke.de
X-WR-CALDESC:Veranstaltungen für Gut Schuss
REFRESH-INTERVAL;VALUE=DURATION:PT1H
X-Robots-Tag:noindex
X-PUBLISHED-TTL:PT1H
BEGIN:VTIMEZONE
TZID:UTC
BEGIN:STANDARD
TZOFFSETFROM:+0000
TZOFFSETTO:+0000
TZNAME:UTC
DTSTART:20190101T000000
END:STANDARD
END:VTIMEZONE
BEGIN:VEVENT
DTSTART;VALUE=DATE:20200501
DTEND;VALUE=DATE:20200502
DTSTAMP:20260422T012222
CREATED:20200219T144908Z
LAST-MODIFIED:20200219T144908Z
UID:597-1588291200-1588377599@a-w-francke.de
SUMMARY:Feiertag: Tag der Arbeit
DESCRIPTION:
URL:https://a-w-francke.de/event/feiertag-tag-der-arbeit
END:VEVENT
BEGIN:VEVENT
DTSTART;VALUE=DATE:20200521
DTEND;VALUE=DATE:20200522
DTSTAMP:20260422T012222
CREATED:20200219T144944Z
LAST-MODIFIED:20200219T144944Z
UID:599-1590019200-1590105599@a-w-francke.de
SUMMARY:Feiertag: Christi Himmelfahrt
DESCRIPTION:
URL:https://a-w-francke.de/event/feiertag-christi-himmelfahrt
END:VEVENT
BEGIN:VEVENT
DTSTART;TZID=UTC:20200530T140000
DTEND;TZID=UTC:20200530T180000
DTSTAMP:20260422T012222
CREATED:20200705T115527Z
LAST-MODIFIED:20200705T115527Z
UID:630-1590847200-1590861600@a-w-francke.de
SUMMARY:Freies Training
DESCRIPTION:
URL:https://a-w-francke.de/event/freies-training-32
LOCATION:Schießstand Langenweddingen
END:VEVENT
END:VCALENDAR