BEGIN:VCALENDAR
VERSION:2.0
PRODID:-//Gut Schuss - ECPv6.15.20//NONSGML v1.0//EN
CALSCALE:GREGORIAN
METHOD:PUBLISH
X-WR-CALNAME:Gut Schuss
X-ORIGINAL-URL:https://a-w-francke.de
X-WR-CALDESC:Veranstaltungen für Gut Schuss
REFRESH-INTERVAL;VALUE=DURATION:PT1H
X-Robots-Tag:noindex
X-PUBLISHED-TTL:PT1H
BEGIN:VTIMEZONE
TZID:UTC
BEGIN:STANDARD
TZOFFSETFROM:+0000
TZOFFSETTO:+0000
TZNAME:UTC
DTSTART:20190101T000000
END:STANDARD
END:VTIMEZONE
BEGIN:VEVENT
DTSTART;TZID=UTC:20200209T100000
DTEND;TZID=UTC:20200209T120000
DTSTAMP:20260422T072615
CREATED:20200206T103558Z
LAST-MODIFIED:20200206T103558Z
UID:576-1581242400-1581249600@a-w-francke.de
SUMMARY:Freies Training
DESCRIPTION:
URL:https://a-w-francke.de/event/freies-training-27
LOCATION:Schießstand Langenweddingen
END:VEVENT
BEGIN:VEVENT
DTSTART;TZID=UTC:20200223T100000
DTEND;TZID=UTC:20200223T120000
DTSTAMP:20260422T072615
CREATED:20200220T193914Z
LAST-MODIFIED:20200220T193914Z
UID:615-1582452000-1582459200@a-w-francke.de
SUMMARY:Freies Training
DESCRIPTION:
URL:https://a-w-francke.de/event/freies-training-28
LOCATION:Schießstand Eichenbarleben
END:VEVENT
END:VCALENDAR