BEGIN:VCALENDAR
VERSION:2.0
PRODID:-//Gut Schuss - ECPv6.15.20//NONSGML v1.0//EN
CALSCALE:GREGORIAN
METHOD:PUBLISH
X-WR-CALNAME:Gut Schuss
X-ORIGINAL-URL:https://a-w-francke.de
X-WR-CALDESC:Veranstaltungen für Gut Schuss
REFRESH-INTERVAL;VALUE=DURATION:PT1H
X-Robots-Tag:noindex
X-PUBLISHED-TTL:PT1H
BEGIN:VTIMEZONE
TZID:UTC
BEGIN:STANDARD
TZOFFSETFROM:+0000
TZOFFSETTO:+0000
TZNAME:UTC
DTSTART:20190101T000000
END:STANDARD
END:VTIMEZONE
BEGIN:VEVENT
DTSTART;VALUE=DATE:20200601
DTEND;VALUE=DATE:20200602
DTSTAMP:20260422T005507
CREATED:20200219T145014Z
LAST-MODIFIED:20200219T145014Z
UID:601-1590969600-1591055999@a-w-francke.de
SUMMARY:Feiertag: Pfingstmontag
DESCRIPTION:
URL:https://a-w-francke.de/event/feiertag-pfingstmontag
END:VEVENT
END:VCALENDAR