BEGIN:VCALENDAR
VERSION:2.0
PRODID:-//Gut Schuss - ECPv6.15.20//NONSGML v1.0//EN
CALSCALE:GREGORIAN
METHOD:PUBLISH
X-ORIGINAL-URL:https://a-w-francke.de
X-WR-CALDESC:Veranstaltungen für Gut Schuss
REFRESH-INTERVAL;VALUE=DURATION:PT1H
X-Robots-Tag:noindex
X-PUBLISHED-TTL:PT1H
BEGIN:VTIMEZONE
TZID:UTC
BEGIN:STANDARD
TZOFFSETFROM:+0000
TZOFFSETTO:+0000
TZNAME:UTC
DTSTART:20180101T000000
END:STANDARD
END:VTIMEZONE
BEGIN:VEVENT
DTSTART;VALUE=DATE:20191226
DTEND;VALUE=DATE:20191227
DTSTAMP:20260422T131419
CREATED:20190311T110722Z
LAST-MODIFIED:20190311T112528Z
UID:178-1577318400-1577404799@a-w-francke.de
SUMMARY:Weihnachten
DESCRIPTION:
URL:https://a-w-francke.de/event/ostersonntag
END:VEVENT
END:VCALENDAR